1.0000000000
0.0000000000
0.0000000000
-1.0000000000
671818.5000000000
4110910.5000000000
