1.0000000000
0.0000000000
0.0000000000
-1.0000000000
666265.5000000000
4110795.5000000000
