FILENAME: 37121A11
QUADRANGLE_NAME: SAN LUIS DAM
QUADRANT: NW
WEST_LONGITUDE: -121 7 30.00000
EAST_LONGITUDE: -121 3 45.00000
NORTH_LATITUDE: 37 7 30.00000
SOUTH_LATITUDE: 37 3 45.00000
PRODUCTION_DATE: 2001 12 04
RASTER_ORDER: LEFT_RIGHT/TOP_BOTTOM
BAND_ORGANIZATION: SINGLE FILE
BAND_CONTENT: BLACK&WHITE
BAND_CONTENT: UNDEFINED
BAND_CONTENT: UNDEFINED
BITS_PER_PIXEL: 8
SAMPLES_AND_LINES: 6420 7680
HORIZONTAL_DATUM: NAD83
HORIZONTAL_COORDINATE_SYSTEM: UTM
COORDINATE_ZONE: 10
HORIZONTAL_UNITS: METERS
HORIZONTAL_RESOLUTION: 1.00000
SECONDARY_HORIZONTAL_DATUM: NAD27
XY_ORIGIN: 666150.00000 4110810.00000
SECONDARY_XY_ORIGIN: 666246.06200 4110614.76500
NATION: US
STATE: CA
NW_QUAD_CORNER_XY: 666564.78000 4110384.44700
NE_QUAD_CORNER_XY: 672117.51000 4110495.99000
SE_QUAD_CORNERY_XY: 672258.99400 4103561.46200
SW_QUAD_CORNER_XY: 666701.69500 4103449.98800
SECONDARY_NW_QUAD_XY: 666568.85200 4110180.98400
SECONDARY_NE_QUAD_XY: 672121.71800 4110292.53000
SECONDARY_SE_QUAD_XY: 672263.19900 4103358.16300
SECONDARY_SW_QUAD_XY: 666705.76500 4103246.68600
RMSE_XY: 1.91000
IMAGE_SOURCE: BLACK AND WHITE FILM
SOURCE_IMAGE_ID: NAPP 10521 175
SOURCE_IMAGE_DATE: 1998 08 16
SOURCE_DEM_DATE: 1969 00 00
AGENCY: WESTERN MAPPING CENTER (WMC)
PRODUCER: SANBORN COLORADO, L.L.C.
PRODUCTION_SYSTEM: ORBIT OR_RECTIFY V.5.2
COMPRESSION: UNDEFINED
STANDARD_VERSION: 1996 12
METADATA_DATE: 2001 12 06
DATA_FILE_SIZE: 49312020
BYTE_COUNT: 6420
