1.0000000000
0.0000000000
0.0000000000
-1.0000000000
671959.5000000000
4103976.5000000000
