FILENAME: 37121A13
QUADRANGLE_NAME: SAN LUIS DAM
QUADRANT: SE
WEST_LONGITUDE: -121 3 45.00000
EAST_LONGITUDE: -121 0 0.00000
NORTH_LATITUDE: 37 3 45.00000
SOUTH_LATITUDE: 37 0 0.00000
PRODUCTION_DATE: 2001 12 04
RASTER_ORDER: LEFT_RIGHT/TOP_BOTTOM
BAND_ORGANIZATION: SINGLE FILE
BAND_CONTENT: BLACK&WHITE
BAND_CONTENT: UNDEFINED
BAND_CONTENT: UNDEFINED
BITS_PER_PIXEL: 8
SAMPLES_AND_LINES: 6420 7710
HORIZONTAL_DATUM: NAD83
HORIZONTAL_COORDINATE_SYSTEM: UTM
COORDINATE_ZONE: 10
HORIZONTAL_UNITS: METERS
HORIZONTAL_RESOLUTION: 1.00000
SECONDARY_HORIZONTAL_DATUM: NAD27
XY_ORIGIN: 671850.00000 4104000.00000
SECONDARY_XY_ORIGIN: 671945.94400 4103804.77400
NATION: US
STATE: CA
NW_QUAD_CORNER_XY: 672258.99400 4103561.46200
NE_QUAD_CORNER_XY: 677816.34900 4103676.59500
SE_QUAD_CORNERY_XY: 677962.19000 4096742.05900
SW_QUAD_CORNER_XY: 672400.27200 4096626.99800
SECONDARY_NW_QUAD_XY: 672263.19900 4103358.16300
SECONDARY_NE_QUAD_XY: 677820.68900 4103473.29900
SECONDARY_SE_QUAD_XY: 677966.52700 4096538.92500
SECONDARY_SW_QUAD_XY: 672404.47400 4096423.86200
RMSE_XY: 1.72000
IMAGE_SOURCE: BLACK AND WHITE FILM
SOURCE_IMAGE_ID: NAPP 10521 18
SOURCE_IMAGE_DATE: 1998 08 16
SOURCE_DEM_DATE: 1969 00 00
AGENCY: WESTERN MAPPING CENTER (WMC)
PRODUCER: SANBORN COLORADO, L.L.C.
PRODUCTION_SYSTEM: ORBIT OR_RECTIFY V.5.2
COMPRESSION: UNDEFINED
STANDARD_VERSION: 1996 12
METADATA_DATE: 2001 12 06
DATA_FILE_SIZE: 49504620
BYTE_COUNT: 6420
