1.0000000000
0.0000000000
0.0000000000
-1.0000000000
666402.5000000000
4103860.5000000000
