FILENAME: 37121A14
QUADRANGLE_NAME: SAN LUIS DAM
QUADRANT: SW
WEST_LONGITUDE: -121 7 30.00000
EAST_LONGITUDE: -121 3 45.00000
NORTH_LATITUDE: 37 3 45.00000
SOUTH_LATITUDE: 37 0 0.00000
PRODUCTION_DATE: 2001 12 04
RASTER_ORDER: LEFT_RIGHT/TOP_BOTTOM
BAND_ORGANIZATION: SINGLE FILE
BAND_CONTENT: BLACK&WHITE
BAND_CONTENT: UNDEFINED
BAND_CONTENT: UNDEFINED
BITS_PER_PIXEL: 8
SAMPLES_AND_LINES: 6420 7680
HORIZONTAL_DATUM: NAD83
HORIZONTAL_COORDINATE_SYSTEM: UTM
COORDINATE_ZONE: 10
HORIZONTAL_UNITS: METERS
HORIZONTAL_RESOLUTION: 1.00000
SECONDARY_HORIZONTAL_DATUM: NAD27
XY_ORIGIN: 666300.00000 4103880.00000
SECONDARY_XY_ORIGIN: 666395.99000 4103684.70800
NATION: US
STATE: CA
NW_QUAD_CORNER_XY: 666701.69500 4103449.98800
NE_QUAD_CORNER_XY: 672258.99400 4103561.46200
SE_QUAD_CORNERY_XY: 672400.27200 4096626.99800
SW_QUAD_CORNER_XY: 666838.41200 4096515.59400
SECONDARY_NW_QUAD_XY: 666705.76500 4103246.68600
SECONDARY_NE_QUAD_XY: 672263.19900 4103358.16300
SECONDARY_SE_QUAD_XY: 672404.47400 4096423.86200
SECONDARY_SW_QUAD_XY: 666842.47800 4096312.45500
RMSE_XY: 3.38000
IMAGE_SOURCE: BLACK AND WHITE FILM
SOURCE_IMAGE_ID: NAPP 10521 177
SOURCE_IMAGE_DATE: 1998 08 16
SOURCE_DEM_DATE: 1969 00 00
AGENCY: WESTERN MAPPING CENTER (WMC)
PRODUCER: SANBORN COLORADO, L.L.C.
PRODUCTION_SYSTEM: ORBIT OR_RECTIFY V.5.2
COMPRESSION: UNDEFINED
STANDARD_VERSION: 1996 12
METADATA_DATE: 2001 12 06
DATA_FILE_SIZE: 49312020
BYTE_COUNT: 6420
