FILENAME: 37121A31
QUADRANGLE_NAME: PACHECO PEAK
QUADRANT: NW
WEST_LONGITUDE: -121 22 30.00000
EAST_LONGITUDE: -121 18 45.00000
NORTH_LATITUDE: 37 7 30.00000
SOUTH_LATITUDE: 37 3 45.00000
PRODUCTION_DATE: 2001 12 04
RASTER_ORDER: LEFT_RIGHT/TOP_BOTTOM
BAND_ORGANIZATION: SINGLE FILE
BAND_CONTENT: BLACK&WHITE
BAND_CONTENT: UNDEFINED
BAND_CONTENT: UNDEFINED
BITS_PER_PIXEL: 8
SAMPLES_AND_LINES: 6390 7680
HORIZONTAL_DATUM: NAD83
HORIZONTAL_COORDINATE_SYSTEM: UTM
COORDINATE_ZONE: 10
HORIZONTAL_UNITS: METERS
HORIZONTAL_RESOLUTION: 1.00000
SECONDARY_HORIZONTAL_DATUM: NAD27
XY_ORIGIN: 643950.00000 4110390.00000
SECONDARY_XY_ORIGIN: 644046.30000 4110194.47100
NATION: US
STATE: CA
NW_QUAD_CORNER_XY: 644354.38600 4109974.87900
NE_QUAD_CORNER_XY: 649906.90900 4110071.78100
SE_QUAD_CORNERY_XY: 650030.12100 4103137.51500
SW_QUAD_CORNER_XY: 644473.03100 4103040.67300
SECONDARY_NW_QUAD_XY: 644357.91500 4109771.40600
SECONDARY_NE_QUAD_XY: 649910.57400 4109868.31000
SECONDARY_SE_QUAD_XY: 650033.78300 4102934.20600
SECONDARY_SW_QUAD_XY: 644476.55700 4102837.36200
RMSE_XY: 3.75000
IMAGE_SOURCE: BLACK AND WHITE FILM
SOURCE_IMAGE_ID: NAPP 10522 214
SOURCE_IMAGE_DATE: 1998 08 17
SOURCE_IMAGE_ID: NAPP 10522 212
SOURCE_IMAGE_DATE: 1998 08 17
SOURCE_DEM_DATE: 1971 00 00
AGENCY: WESTERN MAPPING CENTER (WMC)
PRODUCER: SANBORN COLORADO, L.L.C.
PRODUCTION_SYSTEM: ORBIT OR_RECTIFY V.5.2
COMPRESSION: UNDEFINED
STANDARD_VERSION: 1996 12
METADATA_DATE: 2001 12 10
DATA_FILE_SIZE: 49081590
BYTE_COUNT: 6390
