1.0000000000
0.0000000000
0.0000000000
-1.0000000000
649730.5000000000
4103537.5000000000
