1.0000000000
0.0000000000
0.0000000000
-1.0000000000
638502.5000000000
4110274.5000000000
