FILENAME: 37121A41
QUADRANGLE_NAME: GILROY HOT SPRINGS
QUADRANT: NW
WEST_LONGITUDE: -121 30 0.00000
EAST_LONGITUDE: -121 26 15.00000
NORTH_LATITUDE: 37 7 30.00000
SOUTH_LATITUDE: 37 3 45.00000
PRODUCTION_DATE: 2001 11 06
RASTER_ORDER: LEFT_RIGHT/TOP_BOTTOM
BAND_ORGANIZATION: SINGLE FILE
BAND_CONTENT: BLACK&WHITE
BAND_CONTENT: UNDEFINED
BAND_CONTENT: UNDEFINED
BITS_PER_PIXEL: 8
SAMPLES_AND_LINES: 6390 7680
HORIZONTAL_DATUM: NAD83
HORIZONTAL_COORDINATE_SYSTEM: UTM
COORDINATE_ZONE: 10
HORIZONTAL_UNITS: METERS
HORIZONTAL_RESOLUTION: 1.00000
SECONDARY_HORIZONTAL_DATUM: NAD27
XY_ORIGIN: 632850.00000 4110210.00000
SECONDARY_XY_ORIGIN: 632946.48800 4110014.25900
NATION: US
STATE: CA
NW_QUAD_CORNER_XY: 633249.47800 4109792.05200
NE_QUAD_CORNER_XY: 638801.90900 4109881.63600
SE_QUAD_CORNERY_XY: 638915.98800 4102947.48900
SW_QUAD_CORNER_XY: 633358.99100 4102857.96100
SECONDARY_NW_QUAD_XY: 633252.73600 4109588.57500
SECONDARY_NE_QUAD_XY: 638805.30300 4109678.16100
SECONDARY_SE_QUAD_XY: 638919.37900 4102744.17500
SECONDARY_SW_QUAD_XY: 633362.24600 4102654.64500
RMSE_XY: 2.24000
IMAGE_SOURCE: BLACK AND WHITE FILM
SOURCE_IMAGE_ID: NAPP 10523 191
SOURCE_IMAGE_DATE: 1998 08 18
SOURCE_IMAGE_ID: NAPP 10523 189
SOURCE_IMAGE_DATE: 1998 08 18
SOURCE_IMAGE_ID: NAPP 10525 172
SOURCE_IMAGE_DATE: 1998 08 21
SOURCE_IMAGE_ID: NAPP 10523 180
SOURCE_IMAGE_DATE: 1998 08 18
SOURCE_IMAGE_ID: NAPP 10523 193
SOURCE_IMAGE_DATE: 1998 08 18
SOURCE_DEM_DATE: 1953 00 00
AGENCY: WESTERN MAPPING CENTER (WMC)
PRODUCER: SANBORN COLORADO, L.L.C.
PRODUCTION_SYSTEM: ORBIT OR_RECTIFY V.5.2
COMPRESSION: UNDEFINED
STANDARD_VERSION: 1996 12
METADATA_DATE: 2001 11 19
DATA_FILE_SIZE: 49081590
BYTE_COUNT: 6390
