1.0000000000
0.0000000000
0.0000000000
-1.0000000000
638616.5000000000
4103340.5000000000
