1.0000000000
0.0000000000
0.0000000000
-1.0000000000
633059.5000000000
4103246.5000000000
