FILENAME: 37121A44
QUADRANGLE_NAME: GILROY HOT SPRINGS
QUADRANT: SW
WEST_LONGITUDE: -121 30 0.00000
EAST_LONGITUDE: -121 26 15.00000
NORTH_LATITUDE: 37 3 45.00000
SOUTH_LATITUDE: 37 0 0.00000
PRODUCTION_DATE: 2001 11 06
RASTER_ORDER: LEFT_RIGHT/TOP_BOTTOM
BAND_ORGANIZATION: SINGLE FILE
BAND_CONTENT: BLACK&WHITE
BAND_CONTENT: UNDEFINED
BAND_CONTENT: UNDEFINED
BITS_PER_PIXEL: 8
SAMPLES_AND_LINES: 6390 7650
HORIZONTAL_DATUM: NAD83
HORIZONTAL_COORDINATE_SYSTEM: UTM
COORDINATE_ZONE: 10
HORIZONTAL_UNITS: METERS
HORIZONTAL_RESOLUTION: 1.00000
SECONDARY_HORIZONTAL_DATUM: NAD27
XY_ORIGIN: 632940.00000 4103250.00000
SECONDARY_XY_ORIGIN: 633036.53400 4103054.19100
NATION: US
STATE: CA
NW_QUAD_CORNER_XY: 633358.99100 4102857.96100
NE_QUAD_CORNER_XY: 638915.98800 4102947.48900
SE_QUAD_CORNERY_XY: 639029.90100 4096013.40900
SW_QUAD_CORNER_XY: 633468.34400 4095923.93700
SECONDARY_NW_QUAD_XY: 633362.24600 4102654.64500
SECONDARY_NE_QUAD_XY: 638919.37900 4102744.17500
SECONDARY_SE_QUAD_XY: 639033.28900 4095810.25800
SECONDARY_SW_QUAD_XY: 633471.59600 4095720.78300
RMSE_XY: 2.30000
IMAGE_SOURCE: BLACK AND WHITE FILM
SOURCE_IMAGE_ID: NAPP 10523 189
SOURCE_IMAGE_DATE: 1998 08 18
SOURCE_IMAGE_ID: NAPP 10523 191
SOURCE_IMAGE_DATE: 1998 08 18
SOURCE_IMAGE_ID: NAPP 10525 170
SOURCE_IMAGE_DATE: 1998 08 21
SOURCE_IMAGE_ID: NAPP 10525 124
SOURCE_IMAGE_DATE: 1998 08 21
SOURCE_DEM_DATE: 1953 00 00
AGENCY: WESTERN MAPPING CENTER (WMC)
PRODUCER: SANBORN COLORADO, L.L.C.
PRODUCTION_SYSTEM: ORBIT OR_RECTIFY V.5.2
COMPRESSION: UNDEFINED
STANDARD_VERSION: 1996 12
METADATA_DATE: 2001 11 19
DATA_FILE_SIZE: 48889890
BYTE_COUNT: 6390
