1.0000000000
0.0000000000
0.0000000000
-1.0000000000
627397.5000000000
4110091.5000000000
