1.0000000000
0.0000000000
0.0000000000
-1.0000000000
621845.5000000000
4110005.5000000000
