1.0000000000
0.0000000000
0.0000000000
-1.0000000000
627502.5000000000
4103157.5000000000
