1.0000000000
0.0000000000
0.0000000000
-1.0000000000
621945.5000000000
4103071.5000000000
