1.0000000000
0.0000000000
0.0000000000
-1.0000000000
616197.5000000000
4109923.5000000000
