BEGIN_USGS_DOQ_HEADER *
QUADRANGLE_NAME "MOUNT MADONNA" 3.45 or 7.5-min. name*
QUADRANT NE quadrant indicator if cell size = 3.75-minutes*
WEST_LONGITUDE -121 41 15.000 signed deg min sec SDDD MM SS.SSS*
EAST_LONGITUDE -121 37 30.000 signed deg min sec SDDD MM SS.SSS*
NORTH_LATITUDE 37 7 30.000 signed deg min sec SDDD MM SS.SSS*
SOUTH_LATITUDE 37 3 45.000 signed deg min sec SDDD MM SS.SSS*
PRODUCTION_DATE 1998 8 6 yyyy mm dd*
RASTER_ORDER LEFT_RIGHT/TOP_BOTTOM video display order*
BAND_ORGANIZATION "SINGLE FILE" single file or BSQ, or BIL or BIP*
BAND_CONTENT BLACK&WHITE black&white or red green blue*
BITS_PER_PIXEL 8 radiometric resolution*
SAMPLES_AND_LINES 6350 7622 number of columns and rows*
HORIZONTAL_DATUM NAD83 primary horizontal datum*
HORIZONTAL_COORDINATE_SYSTEM UTM *
COORDINATE_ZONE 10 coordinate system zone number*
HORIZONTAL_UNITS METERS coordinate system units*
HORIZONTAL_RESOLUTION 1.00 pixel horiz. ground sample distance*
SECONDARY_HORIZONTAL_DATUM NAD27 secondary horizontal datum*
XY_ORIGIN 616197.000 4109924.000 coord. of upper left pixel pri. datum*
SECONDARY_XY_ORIGIN 616293.781 4109727.774 coord upper left pixel sec datum*
NATION US nation code*
STATE CA state fip code*
NW_QUAD_CORNER_XY 616592.438 4109545.253 XY coords. of pri. NW quad corner*
NE_QUAD_CORNER_XY 622144.744 4109623.861 XY coords. of pri. NE quad corner*
SE_QUAD_CORNER_XY 622245.125 4102689.874 XY coords. of pri. SE quad corner*
SW_QUAD_CORNER_XY 616688.254 4102611.315 XY coords. of pri. SW quad corner*
SECONDARY_NW_QUAD_XY 616595.288 4109341.770 XY coords. - sec. NW quad cor.*
SECONDARY_NE_QUAD_XY 622147.730 4109420.380 XY coords. - sec. NE quad cor.*
SECONDARY_SE_QUAD_XY 622248.109 4102486.554 XY coords. - sec. SE quad cor.*
SECONDARY_SW_QUAD_XY 616691.102 4102407.993 XY coords. - sec. SW quad cor.*
RMSE_XY 3.50 doq horiz. accuracy*
IMAGE_SOURCE "BLACK AND WHITE FILM" b&w, cir, natural color, other*
SOURCE_IMAGE_ID "NAPP 6356 176" source image id*
SOURCE_IMAGE_DATE 1993 06 15 source image date as yyyy mm dd*
IMAGE_SOURCE "BLACK AND WHITE FILM" b&w, cir, natural color, other*
SOURCE_IMAGE_ID "NAPP 6356 214" source image id*
SOURCE_IMAGE_DATE 1993 06 15 source image date as yyyy mm dd*
SOURCE_DEM_DATE 1955 00 00 source dem date yyyy mm dd*
AGENCY "WESTERN MAPPING CENTER (WMC)" oversight agency*
PRODUCER "SCIENCE APPLICATIONS INTERNATIONAL" producer/contractor*
PRODUCTION_SYSTEM "GIS/MAGIC" production system*
STANDARD_VERSION 1996 12 version of DOQ standard*
METADATA_DATE 1998 08 21 date created or changed, yyyy mm dd*
DATA_FILE_SIZE 48406050 data set size in bytes*
BYTE_COUNT 6350 header byte count* * * * * * * * * * * * * * * * * * * * * * * * * * * * * * * * * *
END_USGS_HEADER *
