1.0000000000
0.0000000000
0.0000000000
-1.0000000000
610645.5000000000
4109845.5000000000
