1.0000000000
0.0000000000
0.0000000000
-1.0000000000
616293.5000000000
4102989.5000000000
