1.0000000000
0.0000000000
0.0000000000
-1.0000000000
610736.5000000000
4102911.5000000000
