1.0000000000
0.0000000000
0.0000000000
-1.0000000000
605092.5000000000
4109770.5000000000
