1.0000000000
0.0000000000
0.0000000000
-1.0000000000
599540.5000000000
4109699.5000000000
