1.0000000000
0.0000000000
0.0000000000
-1.0000000000
605179.5000000000
4102836.5000000000
