1.0000000000
0.0000000000
0.0000000000
-1.0000000000
593987.5000000000
4109631.5000000000
