1.0000000000
0.0000000000
0.0000000000
-1.0000000000
588435.5000000000
4109567.5000000000
