1.0000000000
0.0000000000
0.0000000000
-1.0000000000
671534.5000000000
4124780.5000000000
