1.0000000000
0.0000000000
0.0000000000
-1.0000000000
666128.5000000000
4117730.5000000000
