FILENAME: 37121B14
QUADRANGLE_NAME: HOWARD RANCH
QUADRANT: SW
WEST_LONGITUDE: -121 7 30.00000
EAST_LONGITUDE: -121 3 45.00000
NORTH_LATITUDE: 37 11 15.00000
SOUTH_LATITUDE: 37 7 30.00000
PRODUCTION_DATE: 2001 11 13
RASTER_ORDER: LEFT_RIGHT/TOP_BOTTOM
BAND_ORGANIZATION: SINGLE FILE
BAND_CONTENT: BLACK&WHITE
BAND_CONTENT: UNDEFINED
BAND_CONTENT: UNDEFINED
BITS_PER_PIXEL: 8
SAMPLES_AND_LINES: 6390 7680
HORIZONTAL_DATUM: NAD83
HORIZONTAL_COORDINATE_SYSTEM: UTM
COORDINATE_ZONE: 10
HORIZONTAL_UNITS: METERS
HORIZONTAL_RESOLUTION: 1.00000
SECONDARY_HORIZONTAL_DATUM: NAD27
XY_ORIGIN: 666030.00000 4117740.00000
SECONDARY_XY_ORIGIN: 666126.13300 4117544.82300
NATION: US
STATE: CA
NW_QUAD_CORNER_XY: 666427.66600 4117318.97100
NE_QUAD_CORNER_XY: 671975.82000 4117430.58300
SE_QUAD_CORNERY_XY: 672117.51000 4110495.99000
SW_QUAD_CORNER_XY: 666564.78000 4110384.44700
SECONDARY_NW_QUAD_XY: 666431.74200 4117115.34800
SECONDARY_NE_QUAD_XY: 671980.03200 4117226.96300
SECONDARY_SE_QUAD_XY: 672121.71800 4110292.53000
SECONDARY_SW_QUAD_XY: 666568.85200 4110180.98400
RMSE_XY: 4.57000
IMAGE_SOURCE: BLACK AND WHITE FILM
SOURCE_IMAGE_ID: NAPP 10521 173
SOURCE_IMAGE_DATE: 1998 08 16
SOURCE_IMAGE_ID: NAPP 10521 216
SOURCE_IMAGE_DATE: 1998 08 16
SOURCE_IMAGE_ID: NAPP 10521 171
SOURCE_IMAGE_DATE: 1998 08 16
SOURCE_DEM_DATE: 1971 00 00
AGENCY: WESTERN MAPPING CENTER (WMC)
PRODUCER: SANBORN COLORADO, L.L.C.
PRODUCTION_SYSTEM: ORBIT OR_RECTIFY V.5.2
COMPRESSION: UNDEFINED
STANDARD_VERSION: 1996 12
METADATA_DATE: 2001 11 16
DATA_FILE_SIZE: 49081590
BYTE_COUNT: 6390
