1.0000000000
0.0000000000
0.0000000000
-1.0000000000
660447.5000000000
4124553.5000000000
