1.0000000000
0.0000000000
0.0000000000
-1.0000000000
654903.5000000000
4124445.5000000000
