FILENAME: 37121B21
QUADRANGLE_NAME: CREVISON PEAK
QUADRANT: NW
WEST_LONGITUDE: -121 15 0.00000
EAST_LONGITUDE: -121 11 15.00000
NORTH_LATITUDE: 37 15 0.00000
SOUTH_LATITUDE: 37 11 15.00000
PRODUCTION_DATE: 2001 11 13
RASTER_ORDER: LEFT_RIGHT/TOP_BOTTOM
BAND_ORGANIZATION: SINGLE FILE
BAND_CONTENT: BLACK&WHITE
BAND_CONTENT: UNDEFINED
BAND_CONTENT: UNDEFINED
BITS_PER_PIXEL: 8
SAMPLES_AND_LINES: 6390 7680
HORIZONTAL_DATUM: NAD83
HORIZONTAL_COORDINATE_SYSTEM: UTM
COORDINATE_ZONE: 10
HORIZONTAL_UNITS: METERS
HORIZONTAL_RESOLUTION: 1.00000
SECONDARY_HORIZONTAL_DATUM: NAD27
XY_ORIGIN: 654810.00000 4124460.00000
SECONDARY_XY_ORIGIN: 654906.16200 4124264.88100
NATION: US
STATE: CA
NW_QUAD_CORNER_XY: 655203.36700 4124041.19700
NE_QUAD_CORNER_XY: 660746.83400 4124145.54700
SE_QUAD_CORNERY_XY: 660879.56500 4117211.02300
SW_QUAD_CORNER_XY: 655331.51700 4117106.73700
SECONDARY_NW_QUAD_XY: 655207.17300 4123837.40900
SECONDARY_NE_QUAD_XY: 660750.77700 4123941.76100
SECONDARY_SE_QUAD_XY: 660883.50500 4117007.39700
SECONDARY_SW_QUAD_XY: 655335.32100 4116903.10800
RMSE_XY: 4.03000
IMAGE_SOURCE: BLACK AND WHITE FILM
SOURCE_IMAGE_ID: NAPP 10522 74
SOURCE_IMAGE_DATE: 1998 08 16
SOURCE_IMAGE_ID: NAPP 10522 171
SOURCE_IMAGE_DATE: 1998 08 17
SOURCE_IMAGE_ID: NAPP 10521 218
SOURCE_IMAGE_DATE: 1998 08 16
SOURCE_IMAGE_ID: NAPP 10522 76
SOURCE_IMAGE_DATE: 1998 08 16
SOURCE_IMAGE_ID: NAPP 10521 216
SOURCE_IMAGE_DATE: 1998 08 16
SOURCE_DEM_DATE: 1971 00 00
AGENCY: WESTERN MAPPING CENTER (WMC)
PRODUCER: SANBORN COLORADO, L.L.C.
PRODUCTION_SYSTEM: ORBIT OR_RECTIFY V.5.2
COMPRESSION: UNDEFINED
STANDARD_VERSION: 1996 12
METADATA_DATE: 2002 01 30
DATA_FILE_SIZE: 49081590
BYTE_COUNT: 6390
