1.0000000000
0.0000000000
0.0000000000
-1.0000000000
660580.5000000000
4117618.5000000000
