1.0000000000
0.0000000000
0.0000000000
-1.0000000000
655032.5000000000
4117510.5000000000
