FILENAME: 37121B41
QUADRANGLE_NAME: MISSISSIPPI CREEK
QUADRANT: NW
WEST_LONGITUDE: -121 30 0.00000
EAST_LONGITUDE: -121 26 15.00000
NORTH_LATITUDE: 37 15 0.00000
SOUTH_LATITUDE: 37 11 15.00000
PRODUCTION_DATE: 2001 11 19
RASTER_ORDER: LEFT_RIGHT/TOP_BOTTOM
BAND_ORGANIZATION: SINGLE FILE
BAND_CONTENT: BLACK&WHITE
BAND_CONTENT: UNDEFINED
BAND_CONTENT: UNDEFINED
BITS_PER_PIXEL: 8
SAMPLES_AND_LINES: 6390 7680
HORIZONTAL_DATUM: NAD83
HORIZONTAL_COORDINATE_SYSTEM: UTM
COORDINATE_ZONE: 10
HORIZONTAL_UNITS: METERS
HORIZONTAL_RESOLUTION: 1.00000
SECONDARY_HORIZONTAL_DATUM: NAD27
XY_ORIGIN: 632610.00000 4124070.00000
SECONDARY_XY_ORIGIN: 632706.39700 4123874.39500
NATION: US
STATE: CA
NW_QUAD_CORNER_XY: 633029.97700 4123660.44000
NE_QUAD_CORNER_XY: 638573.25600 4123750.13400
SE_QUAD_CORNERY_XY: 638687.66500 4116815.85100
SW_QUAD_CORNER_XY: 633139.80700 4116726.21200
SECONDARY_NW_QUAD_XY: 633033.24000 4123456.64300
SECONDARY_NE_QUAD_XY: 638576.65500 4123546.33900
SECONDARY_SE_QUAD_XY: 638691.06100 4116612.21600
SECONDARY_SW_QUAD_XY: 633143.06700 4116522.57500
RMSE_XY: 3.43000
IMAGE_SOURCE: BLACK AND WHITE FILM
SOURCE_IMAGE_ID: NAPP 10523 195
SOURCE_IMAGE_DATE: 1998 08 18
SOURCE_IMAGE_ID: NAPP 10523 176
SOURCE_IMAGE_DATE: 1998 08 18
SOURCE_IMAGE_ID: NAPP 10523 193
SOURCE_IMAGE_DATE: 1998 08 18
SOURCE_IMAGE_ID: NAPP 10525 177
SOURCE_IMAGE_DATE: 1998 08 21
SOURCE_IMAGE_ID: NAPP 10523 197
SOURCE_IMAGE_DATE: 1998 08 18
SOURCE_DEM_DATE: 1955 00 00
AGENCY: WESTERN MAPPING CENTER (WMC)
PRODUCER: SANBORN COLORADO, L.L.C.
PRODUCTION_SYSTEM: ORBIT OR_RECTIFY V.5.2
COMPRESSION: UNDEFINED
STANDARD_VERSION: 1996 12
METADATA_DATE: 2001 11 27
DATA_FILE_SIZE: 49081590
BYTE_COUNT: 6390
