1.0000000000
0.0000000000
0.0000000000
-1.0000000000
638388.5000000000
4117208.5000000000
