1.0000000000
0.0000000000
0.0000000000
-1.0000000000
627187.5000000000
4123959.5000000000
