1.0000000000
0.0000000000
0.0000000000
-1.0000000000
627292.5000000000
4117025.5000000000
