FILENAME: 37121B53
QUADRANGLE_NAME: MOUNT SIZER
QUADRANT: SE
WEST_LONGITUDE: -121 33 45.00000
EAST_LONGITUDE: -121 30 0.00000
NORTH_LATITUDE: 37 11 15.00000
SOUTH_LATITUDE: 37 7 30.00000
PRODUCTION_DATE: 2001 11 13
RASTER_ORDER: LEFT_RIGHT/TOP_BOTTOM
BAND_ORGANIZATION: SINGLE FILE
BAND_CONTENT: BLACK&WHITE
BAND_CONTENT: UNDEFINED
BAND_CONTENT: UNDEFINED
BITS_PER_PIXEL: 8
SAMPLES_AND_LINES: 6390 7680
HORIZONTAL_DATUM: NAD83
HORIZONTAL_COORDINATE_SYSTEM: UTM
COORDINATE_ZONE: 10
HORIZONTAL_UNITS: METERS
HORIZONTAL_RESOLUTION: 1.00000
SECONDARY_HORIZONTAL_DATUM: NAD27
XY_ORIGIN: 627180.00000 4117050.00000
SECONDARY_XY_ORIGIN: 627276.52400 4116854.15700
NATION: US
STATE: CA
NW_QUAD_CORNER_XY: 627591.99200 4116640.23400
NE_QUAD_CORNER_XY: 633139.80700 4116726.21200
SE_QUAD_CORNERY_XY: 633249.47800 4109792.05200
SW_QUAD_CORNER_XY: 627697.09100 4109706.12700
SECONDARY_NW_QUAD_XY: 627595.11600 4116436.59500
SECONDARY_NE_QUAD_XY: 633143.06700 4116522.57500
SECONDARY_SE_QUAD_XY: 633252.73600 4109588.57500
SECONDARY_SW_QUAD_XY: 627700.21200 4109502.64800
RMSE_XY: 2.73000
IMAGE_SOURCE: BLACK AND WHITE FILM
SOURCE_IMAGE_ID: NAPP 10525 175
SOURCE_IMAGE_DATE: 1998 08 21
SOURCE_IMAGE_ID: NAPP 10525 172
SOURCE_IMAGE_DATE: 1998 08 21
SOURCE_DEM_DATE: 1955 00 00
AGENCY: WESTERN MAPPING CENTER (WMC)
PRODUCER: SANBORN COLORADO, L.L.C.
PRODUCTION_SYSTEM: ORBIT OR_RECTIFY V.5.2
COMPRESSION: UNDEFINED
STANDARD_VERSION: 1996 12
METADATA_DATE: 2001 11 19
DATA_FILE_SIZE: 49081590
BYTE_COUNT: 6390
