1.0000000000
0.0000000000
0.0000000000
-1.0000000000
621744.5000000000
4116939.5000000000
