1.0000000000
0.0000000000
0.0000000000
-1.0000000000
616100.5000000000
4123791.5000000000
