1.0000000000
0.0000000000
0.0000000000
-1.0000000000
610557.5000000000
4123712.5000000000
