1.0000000000
0.0000000000
0.0000000000
-1.0000000000
616196.5000000000
4116857.5000000000
