FILENAME: 37121B63
QUADRANGLE_NAME: MORGAN HILL
QUADRANT: SE
WEST_LONGITUDE: -121 41 15.00000
EAST_LONGITUDE: -121 37 30.00000
NORTH_LATITUDE: 37 11 15.00000
SOUTH_LATITUDE: 37 7 30.00000
PRODUCTION_DATE: 2001 11 13
RASTER_ORDER: LEFT_RIGHT/TOP_BOTTOM
BAND_ORGANIZATION: SINGLE FILE
BAND_CONTENT: BLACK&WHITE
BAND_CONTENT: UNDEFINED
BAND_CONTENT: UNDEFINED
BITS_PER_PIXEL: 8
SAMPLES_AND_LINES: 6390 7650
HORIZONTAL_DATUM: NAD83
HORIZONTAL_COORDINATE_SYSTEM: UTM
COORDINATE_ZONE: 10
HORIZONTAL_UNITS: METERS
HORIZONTAL_RESOLUTION: 1.00000
SECONDARY_HORIZONTAL_DATUM: NAD27
XY_ORIGIN: 616080.00000 4116870.00000
SECONDARY_XY_ORIGIN: 616176.68900 4116673.82400
NATION: US
STATE: CA
NW_QUAD_CORNER_XY: 616496.48300 4116479.26100
NE_QUAD_CORNER_XY: 622044.21800 4116557.91800
SE_QUAD_CORNERY_XY: 622144.74400 4109623.86100
SW_QUAD_CORNER_XY: 616592.43800 4109545.25300
SECONDARY_NW_QUAD_XY: 616499.33500 4116275.61700
SECONDARY_NE_QUAD_XY: 622047.20600 4116354.27600
SECONDARY_SE_QUAD_XY: 622147.73000 4109420.38000
SECONDARY_SW_QUAD_XY: 616595.28800 4109341.77000
RMSE_XY: 2.66000
IMAGE_SOURCE: BLACK AND WHITE FILM
SOURCE_IMAGE_ID: NAPP 10525 76
SOURCE_IMAGE_DATE: 1998 08 21
SOURCE_DEM_DATE: 1955 00 00
AGENCY: WESTERN MAPPING CENTER (WMC)
PRODUCER: SANBORN COLORADO, L.L.C.
PRODUCTION_SYSTEM: ORBIT OR_RECTIFY V.5.2
COMPRESSION: UNDEFINED
STANDARD_VERSION: 1996 12
METADATA_DATE: 2001 11 19
DATA_FILE_SIZE: 48889890
BYTE_COUNT: 6390
