FILENAME: 37121B64
QUADRANGLE_NAME: MORGAN HILL
QUADRANT: SW
WEST_LONGITUDE: -121 45 0.00000
EAST_LONGITUDE: -121 41 15.00000
NORTH_LATITUDE: 37 11 15.00000
SOUTH_LATITUDE: 37 7 30.00000
PRODUCTION_DATE: 2001 11 13
RASTER_ORDER: LEFT_RIGHT/TOP_BOTTOM
BAND_ORGANIZATION: SINGLE FILE
BAND_CONTENT: BLACK&WHITE
BAND_CONTENT: UNDEFINED
BAND_CONTENT: UNDEFINED
BITS_PER_PIXEL: 8
SAMPLES_AND_LINES: 6390 7620
HORIZONTAL_DATUM: NAD83
HORIZONTAL_COORDINATE_SYSTEM: UTM
COORDINATE_ZONE: 10
HORIZONTAL_UNITS: METERS
HORIZONTAL_RESOLUTION: 1.00000
SECONDARY_HORIZONTAL_DATUM: NAD27
XY_ORIGIN: 610530.00000 4116780.00000
SECONDARY_XY_ORIGIN: 610626.77200 4116583.65700
NATION: US
STATE: CA
NW_QUAD_CORNER_XY: 610948.78600 4116404.26500
NE_QUAD_CORNER_XY: 616496.48300 4116479.26100
SE_QUAD_CORNERY_XY: 616592.43800 4109545.25300
SW_QUAD_CORNER_XY: 611040.17000 4109470.30300
SECONDARY_NW_QUAD_XY: 610951.50300 4116200.61900
SECONDARY_NE_QUAD_XY: 616499.33500 4116275.61700
SECONDARY_SE_QUAD_XY: 616595.28800 4109341.77000
SECONDARY_SW_QUAD_XY: 611042.88400 4109266.81800
RMSE_XY: 1.31000
IMAGE_SOURCE: BLACK AND WHITE FILM
SOURCE_IMAGE_ID: NAPP 10526 77
SOURCE_IMAGE_DATE: 1998 08 22
SOURCE_DEM_DATE: 1955 00 00
AGENCY: WESTERN MAPPING CENTER (WMC)
PRODUCER: SANBORN COLORADO, L.L.C.
PRODUCTION_SYSTEM: ORBIT OR_RECTIFY V.5.2
COMPRESSION: UNDEFINED
STANDARD_VERSION: 1996 12
METADATA_DATE: 2001 11 19
DATA_FILE_SIZE: 48698190
BYTE_COUNT: 6390
