FILENAME: 37121B72
QUADRANGLE_NAME: SANTA TERESA HILLS
QUADRANT: NE
WEST_LONGITUDE: -121 48 45.00000
EAST_LONGITUDE: -121 45 0.00000
NORTH_LATITUDE: 37 15 0.00000
SOUTH_LATITUDE: 37 11 15.00000
PRODUCTION_DATE: 2001 11 13
RASTER_ORDER: LEFT_RIGHT/TOP_BOTTOM
BAND_ORGANIZATION: SINGLE FILE
BAND_CONTENT: BLACK&WHITE
BAND_CONTENT: UNDEFINED
BAND_CONTENT: UNDEFINED
BITS_PER_PIXEL: 8
SAMPLES_AND_LINES: 6330 7650
HORIZONTAL_DATUM: NAD83
HORIZONTAL_COORDINATE_SYSTEM: UTM
COORDINATE_ZONE: 10
HORIZONTAL_UNITS: METERS
HORIZONTAL_RESOLUTION: 1.00000
SECONDARY_HORIZONTAL_DATUM: NAD27
XY_ORIGIN: 604920.00000 4123650.00000
SECONDARY_XY_ORIGIN: 605016.73200 4123453.63900
NATION: US
STATE: CA
NW_QUAD_CORNER_XY: 605314.18700 4123266.91700
NE_QUAD_CORNER_XY: 610857.27000 4123338.29600
SE_QUAD_CORNERY_XY: 610948.78600 4116404.26500
SW_QUAD_CORNER_XY: 605401.12500 4116332.92800
SECONDARY_NW_QUAD_XY: 605316.76900 4123063.11000
SECONDARY_NE_QUAD_XY: 610859.98900 4123134.49100
SECONDARY_SE_QUAD_XY: 610951.50300 4116200.61900
SECONDARY_SW_QUAD_XY: 605403.70600 4116129.28100
RMSE_XY: 1.44000
IMAGE_SOURCE: BLACK AND WHITE FILM
SOURCE_IMAGE_ID: NAPP 10526 111
SOURCE_IMAGE_DATE: 1998 08 22
SOURCE_DEM_DATE: 1953 00 00
AGENCY: WESTERN MAPPING CENTER (WMC)
PRODUCER: SANBORN COLORADO, L.L.C.
PRODUCTION_SYSTEM: ORBIT OR_RECTIFY V.5.2
COMPRESSION: UNDEFINED
STANDARD_VERSION: 1996 12
METADATA_DATE: 2001 11 19
DATA_FILE_SIZE: 48430830
BYTE_COUNT: 6330
