1.0000000000
0.0000000000
0.0000000000
-1.0000000000
599471.5000000000
4123566.5000000000
