1.0000000000
0.0000000000
0.0000000000
-1.0000000000
605101.5000000000
4116703.5000000000
